Workbook
Name _Hlk167281826: 第10号!$A$3
Name _Hlk167281826: 第11号!$A$3
Name _Hlk167281826: 第12号!$A$3
Name _Hlk167281826: 第14号!$A$5
Name _Hlk167281826: 第15号!$A$4
Name _Hlk167281826: 第16号!$A$3
Name _Hlk167281826: 第17号!$A$3
Name _Hlk167281826: 第3号!$A$3
Name _Hlk167281826: 第4号!$A$3
Name _Hlk167281826: 第5号!$A$3
Name _Hlk167281826: 第6号!$A$5
Name _Hlk167281826: 第7号!$A$5
Name _Hlk167281826: 第8号!$A$4
Name _Hlk167281826: 第9号!$A$3
Name _Hlk167281842: 第10号!$C$19
Name _Hlk167281842: 第11号!$A$21
Name _Hlk167281842: 第12号!$A$24
Name _Hlk167281842: 第14号!$A$31
Name _Hlk167281842: 第15号!$C$29
Name _Hlk167281842: 第16号!$A$18
Name _Hlk167281842: 第17号!$A$18
Name _Hlk167281842: 第3号!$A$19
Name _Hlk167281842: 第4号!$A$16
Name _Hlk167281842: 第5号!$A$19
Name _Hlk167281842: 第6号!#REF!
Name _Hlk167281842: 第7号!#REF!
Name _Hlk167281842: 第8号!#REF!
Name _Hlk167281842: 第9号!$A$16
Name _Hlk167281987: 第10号!$G$10
Name _Hlk167281987: 第11号!$L$11
Name _Hlk167281987: 第12号!$K$11
Name _Hlk167281987: 第14号!$H$15
Name _Hlk167281987: 第15号!$J$12
Name _Hlk167281987: 第16号!$H$10
Name _Hlk167281987: 第17号!$H$10
Name _Hlk167281987: 第3号!$G$11
Name _Hlk167281987: 第4号!$G$10
Name _Hlk167281987: 第5号!$G$11
Name _Hlk167281987: 第6号!#REF!
Name _Hlk167281987: 第7号!#REF!
Name _Hlk167281987: 第8号!#REF!
Name _Hlk167281987: 第9号!$G$10
Name 起案データ: [1]工事施設ﾃﾞｰﾀ!$B$2:$H$57
Name 業務ﾃﾞｰﾀ: #REF!
Name 業務ﾃﾞｰﾀ: #REF!
Name 業務ﾃﾞｰﾀ: #REF!
Name 業務計画ﾃﾞｰﾀ: #REF!
Name 業務計画ﾃﾞｰﾀ: #REF!
Name 業務計画ﾃﾞｰﾀ: #REF!
Name 検査依頼書: [2]検査依頼書!$A$38:$R$71,[2]検査依頼書!$S$1:$AI$37
Name 施設: [3]施設ﾃﾞｰﾀ!$A$2:$F$43
Name 発注ﾅﾝﾊﾞｰ: #REF!
Name 発注ﾅﾝﾊﾞｰ: #REF!
Name 発注ﾅﾝﾊﾞｰ: #REF!
Name 予算執行: #REF!
Name 予算執行: #REF!
Name 予算執行: #REF!

Sheet 様式一覧表
A2: 様式一覧表
B4: 様式番号 | C4: 様式名
B5: 第１号 | C5: 給水装置工事申込書 | H5: ←様式名をクリックするとそれぞれの様式にジャンプします
B6: 第２－１号 | C6: 給水装置工事（設計・竣工）図面（１）
B7: 第２－２号 | C7: 給水装置工事（設計・竣工）図面（２）
B8: 第３号 | C8: 誓約書（臨時栓）
B9: 第４号 | C9: 誓約書（用途指定）
B10: 第５号 | C10: 誓約書（引込管）
B11: 第６号 | C11: 寄附採納願
B12: 第７号 | C12: 土地掘削占用承諾書（採納用）
B13: 第８号 | C13: 元付型（浄水器・活水器・軟水器）の設置に関する誓約書
B14: 第９号 | C14: 水道直結式スプリンクラー設置誓約書
B15: 第１０号 | C15: 直結直圧式・増圧式維持管理誓約書
B16: 第１１号 | C16: 分岐（新設・撤去）工事立会申請書
B17: 第１２号 | C17: 給水装置工事完了届及び検査申請書
... B24: 富田林様式① | C24: 臨時栓上水道使用申込書

Sheet 共通項目入力シート
B1: １．黄色セルに必要事項を入力すると、各様式に反映されます。なお、直接入力も可能です。 ２．共通する項目のみですので、様式固有の項目については、直接入力してください。 ３．住所、氏名等が長い場合は、印刷時に文字が切れていないか確認してください。
C3: 共通情報 | M3: 記入例
B4: =C5+C6+C8+C10 -> 0 | C4: （１） | D4: 申込者
D5: １） | E5: 住所 | L5: ← | M5: ●●市●●●●１丁目２－３
D6: ２） | E6: 氏名又は名称 | L6: ← | M6: ●●ハウジング
D7: ３） | E7: 氏名又は名称のフリガナ | K7: 半角ｶﾅ | L7: ← | M7: ●●ﾊｳｼﾞﾝｸﾞｶﾌﾞｼｷｶﾞｲｼｬ
D8: ４） | E8: 代表者の氏名 | L8: ← | M8: 代表取締役 大阪 太郎
D9: ５） | E9: 代表者の氏名のフリガナ | K9: 半角ｶﾅ | L9: ← | M9: ｵｵｻｶ ﾀﾛｳ
D10: ６） | E10: 電話番号 | K10: 半角 | L10: ← | M10: 00-0000-0000
C11: （２） | D11: 工事場所
D12: １） | E12: 工事場所 | L12: ← | M12: ●●市●●●４丁目５－６
C13: （３） | D13: 指定給水装置工事事業者
D14: １） | E14: 指定番号 | K14: 半角 | L14: ← | M14: 9999
D15: ２） | E15: 住所 | L15: ← | M15: ●●市●●10丁目ー11－12
D16: ３） | E16: 氏名又は名称 | L16: ← | M16: (株)●●設備
D17: ４） | E17: 代表者の氏名 | L17: ← | M17: 給水 次郎
D18: ５） | E18: 電話番号 | K18: 半角 | L18: ← | M18: 00-0000-0000
C19: （４） | D19: 主任技術者
D20: １） | E20: 主任技術者交付番号 | K20: 半角 | L20: ← | M20: 1234567
D21: ２） | E21: 氏名 | L21: ← | M21: 給水 三郎

Sheet 第1号
C2: （様式第１号） | AE2: ※企業団使用欄
C3: 決 裁 | X3: 使 用 者 番 号 | AD3: 水 栓 番 号
C4: 水道技術管理 補助者
X6: 整 理 番 号
C10: 給水装置工事申込書
C14: （宛先）
C16: 大阪広域水道企業団企業長 様 | AC16: 年 | AF16: 月 | AI16: 日
C19: 大阪広域水道企業団水道事業給水条例第10条第１項により、給水装置工事を次のとおり申し込みます。
C20: 本申込書の提出に当たり、大阪広域水道企業団水道事業給水条例、同条例に関連する規程及び下記の誓約事項を
C21: 遵守するとともに、本工事に関する第三者からの異議申し立てについては、当方で責任をもって解決します。
C22: また、給水装置工事を行うに当たり、工事に必要な一切の権限を下記の指定給水装置工事事業者に委任します。
C23: なお、加入金・手数料等を納期限までに納付しなかったときは、申込みが取り消される事を了承します。
C26: 申 込 者 | I26: 住所 | M26: =共通項目入力シート!F5&""
C27: （委 任 者）
I28: フリガナ | M28: =共通項目入力シート!F7&" "&共通項目入力シート!F9
I30: 氏名又は名称 代表者の氏名 | M30: =共通項目入力シート!F6&""
M32: =共通項目入力シート!F8&""
I35: 電話番号 | M35: =共通項目入力シート!F10&""
C37: 工事場所 | M37: =共通項目入力シート!F12&""
C38: （設置場所）
C40: 備 考 | I40: 当該申込みにおいて記入された個人に関する情報について、給水装置工事の施工に伴う事務のほか、
I41: 水道事業の運営に係る事務の目的に利用することを承諾します。
C43: 誓 約 事 項 | D43: １．緊急やむを得ない場合の給水制限、断水及び濁り水等により損害が生じても、大阪広域水道企業団に対し損害を請求 しません。 ２．加入金・手数料等について、大阪広域水道企業団水道事業給水条例の定めに従い納付します。 ３．メーターの設置場所周辺は、メーターの検針、取替又は修繕に支障のないよう管理します。もし支障が生じた場合に は、メーター位置の変更等、自費で必要な対応を行います。 ４. 借用したメーターを亡失又は毀損した場合は、その損害を賠償します。 ５．配水管から分岐した本給水装置は私の所有物ですので、私が責任をもって維持管理します。 ６. 本給水装置の老朽化等による錆水又は通水障害により配管替えを必要とする場合は、自費で対応します。 ７．この工事に関して利害関係人その他の者から異議があった場合、すべて工事申込者の責任において解決します。 ８. 本給水装置を第三者に譲渡する場合は、譲受人に対して一切の権利義務を承継します。
C59: 委 任 代 理 人 | X59: 工 種
E60: 指定給水装置工事事業者 | M60: 指定第 | O60: =共通項目入力シート!F14&"" | S60: 号 | Y60: Ａ | Z60: 新 設 | AC60: Ｂ | AD60: 改 良 | AG60: Ｃ | AH60: 臨 時 栓
F62: 住 所 | J62: =共通項目入力シート!F15&"" | Y62: Ｄ | Z62: 給水主管 | AC62: DD | AD62: 引 込 管 | AG62: Ｅ | AH62: 撤 去
F64: 氏名又は名称 代表者の氏名 | J64: =共通項目入力シート!F16&"" | Y64: Ｆ | Z64: 修 繕
J65: =共通項目入力シート!F17&""
F66: 電話番号 | J66: =共通項目入力シート!F18&""
X67: ※企業団使用欄
E68: 主任技術者交付番号 | M68: 第 | O68: =共通項目入力シート!F20&"" | S68: 号 | X68: 給水方式 | AA68: □直結直圧式 □3～5階直結直圧式
AA70: □直結増圧式 □貯水槽式
F71: 氏 名 | J71: =共通項目入力シート!F21&""
X72: メーター 口 径 | AA72: □φ13㎜ □φ20㎜ □φ25㎜ □φ30㎜ □φ40㎜ □φ50㎜ □φ ㎜
E73: 上記の誓約事項及び提出書類は全て申込者に説明しています。

Sheet 第2-1号
B3: (様式第２－１号）
B4: 給水装置工事（設計・竣工）図面 | I4: 方 位
B10: 当該給水装置の構造及び材質は、水道法施行令
B12: 第６条及び国土交通省令で定める技術細目に適合
B14: しています。
B17: 水栓番号
B19: 使用者番号
B21: 工事場所 | C21: =共通項目入力シート!F12&""
B23: 指定給水装置 工事事業者 | C23: =共通項目入力シート!F16&""
B25: 主任技術者 | C25: =共通項目入力シート!F21&""
B27: 図面の種類
B29: 縮 尺 | C29: / | E29: 図 番 | G29: /
B34: 位置図 | G34: Ｎ
G35: ＋
B49: ※上記枠内に位置図を記載しない場合
B50: 別途位置図を添付すること。

Sheet 第2-2号
B4: (様式第２－２号）
C5: 給水装置工事（設計・竣工）図面 | Y5: 方 位
P31: 当該給水装置の構造及び材質は、水道法施行令第６条及び国土交通省令で定める技術細目に適合しています。
C32: 水栓番号 | G32: 使用者番号 | K32: 工事場所 | O32: 指定給水装置工事事業者 | S32: 主任技術者 | V32: 図面の種類 | X32: 縮尺 | Z32: 図番
K34: =共通項目入力シート!F12&"" | O34: =共通項目入力シート!F16&"" | S34: =共通項目入力シート!F21&"" | X34: ／ | Z34: ／

Sheet 第3号
A1: （様式第３号）
G3: 年 月 日
A4: （宛先）
A5: 大阪広域水道企業団企業長 様
A9: （給水装置工事申込者） | F9: 住 所 | G9: =共通項目入力シート!F5&""
F11: 氏名又は名称 | G11: =共通項目入力シート!F6&""
F12: 代表者の氏名 | G12: =共通項目入力シート!F8&""
A15: 誓 約 書 （臨時栓）
A18: この度、下記の場所にて、臨時栓工事の申込みをするにあたり、下記の事項を条件とすることを誓約します。
A20: 給水装置工事場所 | E20: =共通項目入力シート!F12&""
A22: 誓約事項
A24: １． | C24: この給水装置は臨時栓用以外の目的には使用しません。
A25: ２． | C25: メーターは工事場所以外での使用はいたしません。
A26: ３． | C26: 本給水装置が不要になった場合は速やかに給水装置工事申込書を提出し、撤去いたします。
A27: ４． | C27: 本給水装置を引続き内部申請で使用する場合は、建築確認済証の交付を受けた後、必ず工事 着手前に大阪広域水道企業団の指定給水装置工事事業者を通じて給水装置工事を申込みし、 承認を得ます。
A28: ５． | C28: この給水装置を第三者に譲渡する場合は、承継者に誓約事項を遵守させます。

Sheet 第4号
A1: （様式第４号）
G3: 年 月 日
A4: （宛先）
A5: 大阪広域水道企業団企業長 様
A8: （給水装置工事申込者） | F8: 住 所 | G8: =共通項目入力シート!F5&""
F10: 氏名又は名称 | G10: =共通項目入力シート!F6&""
F11: 代表者の氏名 | G11: =共通項目入力シート!F8&""
A13: 誓 約 書 （用途指定）
A14: この度、給水装置工事の許可を受けるにあたり、次の事項を条件とすることを誓約します。この給水装置を第三者に譲渡する場合は、承継者に誓約事項を遵守させます。また、誓約事項に違反したときは、直ちに給水を停止されても一切異議を申立てしません。
A16: 給水装置工事場所 | E16: =共通項目入力シート!F12&""
A18: 誓約事項
B19: ・用途指定
C20: □ 散水用 □ 駐車場用 □ 畑用 □ その他（ | H20: ）
C21: 上記以外の用途には、使用しません。
B23: ・既設管使用
C24: この給水装置の維持管理については責任をもって管理しますが、当方の故意または過失によるメーター上流側の腐食漏れ、出水不良、その他補修の必要が生じたときは、自費をもって施工します。また、当該給水装置が不適当と指摘されたときは、直ちに切断し、その他必要な措置をします。
B26: ・出水不良
C27: この給水装置に、当方の故意または過失による出水不良の問題が生じた場合は、大阪広域水道企業団に対して異議申立てをしないことは勿論、大阪広域水道企業団の指定給水装置工事事業者を通じ、自費をもって改良工事等適切な措置をします。
B29: ・給水用具
C30: この給水装置工事で使用した給水用具を起因として、将来水質異常等の問題が生じた場合は、大阪広域水道企業団に対して異議申立てをしないことは勿論、大阪広域水道企業団の指定給水装置工事事業者を通じ、自費をもって撤去等の適切な改良工事を行います。

Sheet 第5号
A1: （様式第５号）
G3: 年 月 日
A4: （宛先）
A5: 大阪広域水道企業団企業長 様
A9: （給水装置工事申込者） | F9: 住 所 | G9: =共通項目入力シート!F5&""
F11: 氏名又は名称 | G11: =共通項目入力シート!F6&""
F12: 代表者の氏名 | G12: =共通項目入力シート!F8&""
A15: 誓 約 書 （引込管）
A18: この度、下記の場所にて、引込管工事の申し込みをするにあたり、下記の事項を条件とすることを誓約します。
A20: 給水装置工事場所 | E20: =共通項目入力シート!F12&""
A22: 記
A24: １． | C24: 引込給水管の口径は | E24: mm管とします。
A25: ２． | C25: 給水管の埋設深度は道路管理者の指示に従います。
A26: ３． | C26: 埋設管の位置表示については、大阪広域水道企業団の指示する方法で明示します。
A27: ４． | C27: 給水管の引込み位置がメーター設置位置と横振り配管となる場合又は口径変更が生じた場合は、引込給水管の布設替を行います。
A29: ５． | C29: 引込給水管が不要となった場合は、自費をもって速やかに撤去します。
A30: ６． | C30: この引込給水管を使用して給水装置工事を行う場合は、必ず工事着手前に大阪広域水道企業団の指定給水装置工事事業者を通じて給水装置工事の申込みを提出し、承認を得ます。
A32: ７． | C32: この引込給水管は、当方が責任をもって維持管理しますが、当方の故意または過失による出水不良、漏水、盗水等の事故が生じたときは自費をもって修繕等の適切な措置を行います。
C34: また、第三者に損害が生じた場合も含め当方で措置し、大阪広域水道企業団には一切迷惑をかけません。
A35: ８． | C35: この給水装置を第三者に譲渡する場合は、承継者に誓約事項を遵守させます。

Sheet 第6号
A3: （様式第６号）
G5: 年 月 日
A7: （宛先）
A8: 大阪広域水道企業団企業長 様
F11: （寄附採納申込者）
F13: 住 所 | G13: =共通項目入力シート!F5&""
F15: 氏名又は名称 | G15: =共通項目入力シート!F6&""
F16: 代表者の氏名 | G16: =共通項目入力シート!F8&""
A20: 寄 附 採 納 願
A24: 私が所有する給水主管について、下記のとおり大阪広域水道企業団に無償で寄附します。
A28: 記
A32: １．給水主管の所在・地番
A36: ２．給水主管の明細 | E36: 別添、給水装置工事図面のとおり
A40: ３．指定給水装置工事事業者 | E40: =共通項目入力シート!F16&""

Sheet 第7号
A3: （様式第７号）
G5: 年 月 日
A7: （宛先）
A8: 大阪広域水道企業団企業長 様
F11: 承諾人（権利人）
F13: 住 所
F15: 氏名又は名称
F16: 代表者の氏名
A20: 土 地 掘 削 占 用 承 諾 書 （採 納 用）
A23: 私が所有する土地を掘削・占用し、水道管（給水主管）を埋設することについて次のとおり承諾します。なお、当該土地において、権利人の変更があった場合は、本承諾書に基づく土地使用事実について譲受人に承継します。
A26: １． | C26: 所在・地番
A29: ２． | C29: 掘削・占用の目的 | F29: 水道管（給水主管）の埋設及び漏水修理等維持管理
A32: ３． | C32: 掘削・占用（土地使用）料 | F32: 無 償
A35: ４． | C35: 掘削・占用（土地使用）期間 | F35: 水道管（給水主管）が存続する期間
A38: ５． | C38: 添付書類 | F38: 公図及び登記事項要約書

Sheet 第8号
A2: （様式第８号）
I4: 年 月 日
E6: 浄水器
D7: 元付け型 | E7: 活水器 | F7: の設置に関する誓約書
E8: 軟水器
A10: （宛先）
A11: 大阪広域水道企業団企業長 様
C14: （給水装置工事申込者） | F14: 住 所 | H14: =共通項目入力シート!F5&""
F16: 氏名又は名称 | H16: =共通項目入力シート!F6&""
F17: 代表者の氏名 | H17: =共通項目入力シート!F8&""
A20: 水道メーターの下流（給水管の主管部）に元付けする浄水器・活水器・軟水器（以下「浄水器等」という。）の設置に当たっては、当該浄水器等の特性、水質への影響、維持管理等について理解し、下記の事項を条件とすることを誓約します。
A23: 記
A26: 建物所在地： | D26: =共通項目入力シート!F12&"" | G26: 製品名：
A28: 型式又は略号： | G28: 製造メーカー：
A31: １． | C31: 浄水器等を通過した水の水質管理については、工事申込者（給水装置所有者）が責任を負います。
A33: ２． | C33: 浄水器等は十分な注意をもって適正な維持管理を行います。
A35: ３． | C35: 浄水器等の設置に起因して漏水、水圧低下、出水不良等の問題が生じた場合、異議申立てをせず、工事申込者（給水装置所有者）の責任で解決します。
A38: ４． | C38: 断水工事等（濁り水等）で浄水器等に問題が生じた場合は、異議申立てをしません。
A40: ５． | C40: 浄水器等を第三者に譲渡する場合は、この誓約書を譲受人に承継します。

Sheet 第9号
A1: （様式第９号）
G3: 年 月 日
A4: （宛先）
A5: 大阪広域水道企業団企業長 様
A8: （給水装置工事申込者） | F8: 住 所 | G8: =共通項目入力シート!F5&""
F10: 氏名又は名称 | G10: =共通項目入力シート!F6&""
F11: 代表者の氏名 | G11: =共通項目入力シート!F8&""
A14: 水道直結式スプリンクラー設置誓約書
A17: この度、給水装置工事の許可を受けるにあたり、下記の誓約事項について遵守します。
A19: １． | C19: 設置場所 | E19: =共通項目入力シート!F12&""
A21: ２． | C21: 建築物名称
A24: 誓約事項
A26: １． | C26: 水道直結式のスプリンクラーは、断水又は水圧低下が発生した場合に、正常な効果が得られない旨を給水装置使用者に確実に了知させます。
A29: ２． | C29: 災害その他正当な理由によって、一時的な断水や水圧低下等により水道直結式スプリンクラー設備の性能が十分発揮されない状況が生じても大阪広域水道企業団に対して一切異議を申立てません。
A33: ３． | C33: 水道直結式スプリンクラー設備の火災時以外における作動又は火災時の非作動に係る影響に関する責任については、大阪広域水道企業団に対して一切異議を申立てません。
A36: ４． | C36: 上記の誓約事項に違反し、給水装置の是正工事が生じた場合、大阪広域水道企業団の指示に従い自費により適切な措置を行います。
A39: ５． | C39: この給水装置を第三者に譲渡する場合は、承継者に誓約事項を遵守させます。

Sheet 第10号
A1: （様式第10号）
G3: 年 月 日
A4: （宛先）
A5: 大阪広域水道企業団企業長 様
A8: （給水装置工事申込者） | F8: 住 所 | G8: =共通項目入力シート!F12&""
F10: 氏名又は名称 | G10: =共通項目入力シート!F6&""
F11: 代表者の氏名 | G11: =共通項目入力シート!F8&""
A13: 直結直圧式・増圧式維持管理誓約書
A15: 上記の給水方式をするにあたり、次の事項を確認し、了解いたします。
B17: 給水装置工事場所 | E17: =共通項目入力シート!F12&""
A19: １． | C19: 水道使用者への周知
C20: 次の事項について、水道使用者等に周知するとともに、大阪広域水道企業団に苦情等を申し立ていたしません。
C22: （１） | D22: 貯水槽のような貯留機能が無いため、水道管工事や水道メーターの取替等の際は水の使用ができないこと。
C24: （２） | D24: 停電・故障、制限給水時、事故時、水道施設の工事等による水圧の低下に伴う、上層階での断水や出水不良が発生した場合、共用の直圧給水栓を使用すること。
A26: ２． | C26: 断水時の対応
C27: 配水管の工事および緊急の断水時には、大阪広域水道企業団に協力いたしますとともに、大阪広域水道企業団水道事業給水条例を順守いたします。
A29: ３． | C29: 水道メーターの管理及び検針・取替への協力
C30: 水道メーターを適正に管理するとともに、検針・取替業務に支障がないよう、大阪広域水道企業団に協力します。
A32: ４． | C32: 維持管理
C33: 給水装置を適正に保つため、専門知識をもった関係者により毎年１回以上の定期点検を実施するとともに、必要な修繕等を行い管理します。
A35: ５． | C35: 既設配管を使用する場合
C36: 水圧の変動により、設備や器具等の老朽化した部分での漏水事故や水撃圧による振動、ガタツキ音、水量及び水質等の支障が発生したときは、当方にて適切に処理し、大阪広域水道企業団に一切の異議申し立ていたしません。
A39: ６． | C39: 苦情等の処理
C40: 給水装置に起因するその他の苦情等については、当方の責任において適切に処理いたします。
A41: ７． | C41: 損害の補償
C42: 給水装置に起因して、逆流、水質汚染、漏水や異常な水圧変動が発生した場合は当方において問題解決を行うとともに、大阪広域水道企業団もしくはその他の使用者等に損害を与えた場合は、責任をもって補償いたします。
A45: ８． | C45: 所有者および管理者の変更等
C46: 所有者および管理者に変更があったときは、この誓約書の内容を継承いたします。

Sheet 第11号
A1: （様式第11号）
L3: 年 月 日
A4: （宛先）
A5: 大阪広域水道企業団企業長 様
A9: （指定給水装置工事事業者） | I9: 住 所 | L9: =共通項目入力シート!F15&""
I11: 氏名又は名称 | L11: =共通項目入力シート!F16&""
I12: 代表者の氏名 | L12: =共通項目入力シート!F17&""
A14: （給水装置工事主任技術者） | I14: 氏 名 | L14: =共通項目入力シート!F21&""
A17: 分岐（新設・撤去）工事立会申請書
A20: 下記の工事場所において、分岐工事等の立会検査をお願いします。
A23: 記
A26: １． | C26: 整理番号
A28: ２． | C28: 申 込 者 | E28: =共通項目入力シート!F6&" "&共通項目入力シート!F8
A30: ３． | C30: 工事場所 | E30: =共通項目入力シート!F12&""
A32: ４． | C32: 道路使用許可番号
A34: ５． | C34: 許 可 期 間 | E34: 令和 | G34: 年 | I34: 月 | K34: 日～令和 | N34: 年 | P34: 月 | R34: 日
A36: ６． | C36: 道路占用許可番号
A38: ７． | C38: 工事担当者（連絡先） | K38: （TEL: | R38: ）
A40: ８． | C40: 立会希望日時 | E40: 令和 年 月 | G40: 年 | I40: 月 | K40: 日 午前・午後

Sheet 第12号
A1: （様式第12号）
K3: 年 月 日
A4: （宛先）
A5: 大阪広域水道企業団企業長 様
A9: （指定給水装置工事事業者） | H9: 住 所 | K9: =共通項目入力シート!F15&""
H11: 氏名又は名称 | K11: =共通項目入力シート!F16&""
H12: 代表者の氏名 | K12: =共通項目入力シート!F17&""
A14: （給水装置工事主任技術者） | H14: 氏 名 | K14: =共通項目入力シート!F21&""
A17: 給水装置工事完了届及び検査申請書
A20: 下記のとおり給水装置工事を完了しましたので届出します。
A23: 記
A25: １． | C25: 整理番号
A27: ２． | C27: 申 込 者 | D27: =共通項目入力シート!F6&" "&共通項目入力シート!F8
A29: ３． | C29: 工事場所 | D29: =共通項目入力シート!F12&""
A31: ４． | C31: 完 了 日 | E31: 年 | G31: 月 | I31: 日 （自主検査日を記入すること）
A33: ５． | C33: 工事検査希望日 | E33: 令和 | G33: 年 | I33: 月 | K33: 日 午前・午後
A35: ６． | C35: メーター出庫 | E35: 有・無
A37: ７． | C37: 臨時給水開栓 | E37: 有・無

Sheet 第13-1号
A1: （様式第13－１号）
A2: 給水装置工事主任技術者が行う自主検査表
A4: 給水装置工事が完成した時は、工事完了届を提出する前に、この表により検査を行い、工事完了届とともに提出しなければな らない。
A6: 水道法第25条の４第３項
A7: 給水装置工事主任技術者は次に掲げる職務を誠実に行わなければならない。
A8: １．給水装置工事に関する技術上の管理
A9: ２．給水装置工事に従事する者の技術上の指導監督
A10: ３．給水装置工事に係る給水装置の構造及び材質が第16条の規定に基づく政令で定める基準に適合していることの確認
A11: ４．その他国土交通省令で定める職務
A12: 第25条の４第４項
A13: 給水装置工事に従事する者は、給水装置工事主任技術者がその職務として行う指導に従わなければならない。
A14: 書 類 検 査
A16: 検査項目 | C16: 検査の内容 | G16: 適合〇
A17: 位置図 | C17: 工事箇所が確認できるよう、道路及び主要な建物等が記入されていること
A18: 平面図 及び その他図面 | C18: 方位が記入されていること
C19: 建物の位置、構造がわかりやすく記入されていること
C20: 道路種別など付近の状況が分かりやすいこと
C21: 隣接家屋の境界が記入されていること
C22: 平面図と立面図が整合していること
C23: 各部分の材料・口径及び延長が記入されていること
C24: 給水管及び給水用具は、性能基準適合品が使用されていること
C25: 構造・材質基準に適合した適切な施工方法がとられていること
A26: 現 地 検 査
A28: 検査項目 | C28: 検 査 の 内 容 | G28: 適合〇
A29: 屋外の検査 | B29: 分岐部 | C29: ・オフセットが正確に測定し明記されていること
B30: メーター 及び メーター用止水栓 | C30: ・メーターは所定の位置に設置され、逆付け、片寄りがなく、水平に取り付けられ ていること
C31: ・メーターの検針・取替が容易で、支障がないこと
C32: ・止水栓は操作、逆付け、傾きがないこと
C33: ・止水栓は全開状態であるか
C34: ・メーター等に異物の詰まり等はないか
B35: 埋設深さ | C35: ・土被り等の所定の埋設深さが確保されていること
B36: 管延長 | C36: ・竣工図面と整合すること
B37: 各ボックス類 | C37: ・沈下、傾きがないこと。設置基準に適合すること
C38: ・衛生的で損傷、凍結のおそれがない場所であること
B39: 止水栓等 | C39: ・スピンドルの位置がボックスの中心にあること
A40: 配管 | B40: 配管 | C40: ・延長、給水用具等の位置が竣工図面と整合すること
C41: ・配管の口径、経路、構造等が適切であること
C42: ・水の汚染、破壊、浸食、凍結等を防止するための適切な措置がなされていること
C43: ・クロスコネクションがなされていないこと
C44: ・配水管の水圧に影響を及ぼすおそれのあるポンプ等の機器に直接連結されていな いこと
C45: ・ストレーナー等に異物等による目詰まりはないか
B46: 接合 | C46: ・適切な接合が行われていること
B47: 管種 | C47: ・性能基準適合品の使用を確認すること
A48: 給水用具 | B48: 給水用具 | C48: ・性能基準適合品の使用及び栓数を確認すること
B49: 接続 | C49: ・適切な接合が行われていること
A50: 貯水槽 | B50: 吐水口空間の測定 | C50: ・吐水口と越流面との位置関係の確認を行うこと
A51: 機能検査 | C51: ・通水した後、各給水用具からそれぞれ放流し、メーター経由の確認及び給水用具 の吐水量、動作状態について確認すること
A52: 耐圧試験 | C52: ・一定の水圧による耐圧試験で、漏水及び抜けその他の異常がないことを確認する こと
A53: 水質の確認 | C53: ・臭気、味、色、濁り等は目視により異常がないことを確認し、また残留塩素につ いても確認すること
A55: 自 主 点 検 日 | C55: 工 事 場 所 | E55: 申 込 者 | F55: 給水装置工事主任技術者
A56: 年 月 日 | C56: =共通項目入力シート!F12&"" | E56: =共通項目入力シート!F6&" "&共通項目入力シート!F8 | F56: =共通項目入力シート!F21&""

Sheet 第13-2号
A1: （様式第13－２号）
A2: 貯水槽点検調査表
A4: 現 地 検 査
A6: 検査項目 | C6: 検 査 の 内 容 | G6: 適合〇
A7: 水槽周囲の状態 | C7: ゴミ、汚物などが置かれていない
C8: 溜まり水、湧き水などがない
C9: 保守点検に必要な空間がある
A10: 水槽本体の状態 | C10: 亀裂、漏水箇所がない
C11: 架台に固定されている
C12: タラップを設けている
A13: 水槽上部の状態 | C13: 上部に機器など汚染する設備がない
A14: 水槽内部の状態 | C14: 汚泥、赤錆などの沈殿物がない
C15: 当該設備以外の配管施設がない
C16: 浮遊物がない
A17: マンホールの状態 | C17: 密閉型で施錠している
C18: マンホール面が100mm以上高くなっている
A19: 越流管の状態 | C19: 吐水口と越流面及び側壁との距離が規定値以上ある
C20: 越流管の口径は適正である
C21: 管端部の防虫網は正常である
C22: 排水口空間が適正である
A23: 通気管の状態 （有効容量２ｍ３以上の場合） | C23: 管端部の防虫網は正常である
A24: 排水管の状態 | C24: 排水管の口径は適正である
C25: 排水口空間が適正である
A26: 給水管等の状態 | C26: 当該設備以外の配管施設が直接連結してない
C27: 汚染の恐れがある施設の中を貫通していない
C28: 凍結、腐食などの有効な防護をしている
A29: ボールタップの状態 | C29: マンホール付近に設置している
C30: 波打ち防止板を設ける等適切な措置をしている
C31: ストレーナが設置している
C32: 止水状態が正常である
C33: 流入管の長さ及び真空破壊装置の取り付け位置は正常である
A34: 警報装置の状態 | C34: 表示ランプの位置が正常である
C35: 減水、満水警報装置の作動は正常である
A36: 水質検査 | C36: 貯水槽以降の給水栓における臭気、味、色、濁り、残留塩素に異常がない
A37: 緊急連絡先 | C37: 緊急連絡先標示板が設置している
A39: 自 主 点 検 日 | C39: 工 事 場 所 | E39: 申 込 者 | F39: 給水装置工事主任技術者
A40: 年 月 日 | C40: =共通項目入力シート!F12&"" | E40: =共通項目入力シート!F6&" "&共通項目入力シート!F8 | F40: =共通項目入力シート!F21&""

Sheet 第14号
A3: （様式第14号）
H5: 年 月 日
A6: （宛先）
A7: 大阪広域水道企業団企業長 様
A11: （指定給水装置工事事業者） | G11: 住所 | H11: =共通項目入力シート!F15&""
G13: 氏名 | H13: =共通項目入力シート!F16&""
G14: 又は名称
G15: 代表者の氏名 | H15: =共通項目入力シート!F17&""
A19: 給水装置工事検査合格証明書交付申込書
A22: 給水装置工事検査合格証明書の交付を受けたいので、次の給水装置工事について、申込みをします。
A26: 整理番号
A27: 工事申込日
A28: 給水装置工事場所 | F28: =共通項目入力シート!F12&""
A29: 工事申込者 | F29: =共通項目入力シート!F6&" "&共通項目入力シート!F8
A30: 検査年月日
A31: 件数
A33: （注） | C33: 大阪広域水道企業団水道事業給水条例第43条第１項の規定により、証明手数料を１件につき300円徴収します。

Sheet 第15号
A2: （様式第15号）
J4: 年 月 日
A5: （宛先）
A6: 大阪広域水道企業団企業長 様
A10: （給水装置工事申込者） | I10: 住 所 | J10: =共通項目入力シート!F5&""
I12: 氏名又は名称 | J12: =共通項目入力シート!F6&""
I13: 代表者の氏名 | J13: =共通項目入力シート!F8&""
A15: （指定給水装置工事事業者） | I15: 住 所 | J15: =共通項目入力シート!F15&""
I17: 氏名又は名称 | J17: =共通項目入力シート!F16&""
I18: 代表者の氏名 | J18: =共通項目入力シート!F17&""
A21: 給水装置工事申込取消願
D23: 年 | F23: 月 | H23: 日付、整理番号 | J23: 号にて、申込みました給水装置工事を
A24: 下記の理由により取消し願います。
A26: 記
A29: １． | C29: 工事場所 | G29: =共通項目入力シート!F12&""
A31: ２． | C31: 取消理由

Sheet 第16号
A1: （様式第16号）
H3: 年 月 日
A4: （宛先）
A5: 大阪広域水道企業団企業長 様
A8: （申込者） | F8: 住 所
F10: 氏名又は名称
F11: 代表者の氏名
F12: 電話番号
A14: 水 圧 調 査 申 込 書
A17: 下記の給水装置工事を行いたいので、配水管の水圧の調査を申込みます。
A20: 記
A22: １． | C22: 協議場所
C23: 住所
C25: 建築物 | E25: 新築 ・ 既築
C27: 建物階数 | E27: 地上 | G27: 階 ・ 地下 | K27: 階
C29: 給水用途 | E29: 住宅 | G29: 戸 事務所 | K29: 戸
E31: 店舗 | G31: 戸 その他（ | L31: ）
A34: ２． | C34: 給水方式 | E34: □直結直圧式 □直結増圧式
A36: ３． | C36: 添付書類
E37: （１）位置図
E38: （２）その他

Sheet 第17号
A1: （様式第17号）
H3: 年 月 日
A4: （宛先）
A5: 大阪広域水道企業団企業長 様
A8: （申込者） | F8: 住 所
F10: 氏名又は名称
F11: 代表者の氏名
F12: 電話番号
A14: 事 前 協 議 申 込 書
A17: 下記の給水装置工事を行いたいので、事前協議を申込みます。
A20: 記
A22: １． | C22: 協議場所
C23: 住所
C25: 建築物 | E25: 新築 ・ 既築
C27: 建物階数 | E27: 地上 | G27: 階 ・ 地下 | K27: 階
C29: 給水用途 | E29: 住宅 | G29: 戸 事務所 | K29: 戸
E31: 店舗 | G31: 戸 その他（ | L31: ）
A34: ２． | C34: 給水方式 | E34: □直結直圧式 □直結増圧式 □貯水槽式
A36: ３． | C36: 設計水圧 | H36: Mpa（ | K36: kg/㎠）
A38: ４． | C38: 添付書類
E39: （１）誓約書
E40: （２）位置図
E41: （３）給水装置配置図
E42: （４）立面図
E43: （５）水理計算書

Sheet 富田林①
P3: 1 | BE3: No.
F6: 臨時栓使用申込書
A13: 大阪広域水道企業団 富田林水道センター所長 様
AR14: 年 月 日
D18: ※太枠内にご記入ください。
D20: 使用者 | H20: 住所 | T20: （〒 ）
H26: 氏名又は名称 | L26: 業者名 | T26: ﾌﾘｶﾞﾅ
L33: 代表者 （個人名） | T33: ﾌﾘｶﾞﾅ | AW33: TEL
D40: 使用場所 | T40: =共通項目入力シート!F12&""
D46: 使用開始日 | T46: 年 月 日
D50: 納付書送付先 | H50: 住所 | T50: （〒 ） ※使用者と同じ場合は記入不要
H56: 氏名又は名称 | L56: 業者名 | T56: ﾌﾘｶﾞﾅ
L63: 代表者 （個人名） | T63: ﾌﾘｶﾞﾅ | AW63: TEL
D70: 指定給水装置 工事事業者 | T70: =共通項目入力シート!F16&""
D74: 公共下水道 | T74: □ 使用あり (下水道課窓口へ行って下さい） | BE74: □ 使用なし
D78: 給水開始より下記の各事項を厳守します。 1.メーター上に検針又は取替えを害する物や工作物を設置したり、メーターを無断で移動したりしません。 2.メーターの破損や紛失等をした場合は、使用者の費用で弁償いたします。 3.大阪広域水道企業団水道事業給水条例及び同条例施行規程の規定 4.公共下水道を使用する場合は、臨時栓の使用を中止すると同時に、公共下水道の使用も中止します。
D99: 本市使用欄
D101: 備考 | AU101: 申請番号
AU105: メーター内容 | AY105: メーター口径 | BK105: ㎜
AY109: メーター番号
R112: 下水道課確認印 | AC112: 受付 | AL112: 点検カード作成
AY113: 検満 | BK113: /
AY117: 指示数 | BK117: ㎥
